BEGIN:VCALENDAR
VERSION:2.0
PRODID:-//OCA - ECPv6.15.18//NONSGML v1.0//EN
CALSCALE:GREGORIAN
METHOD:PUBLISH
X-ORIGINAL-URL:https://chiropractic.on.ca
X-WR-CALDESC:Events for OCA
REFRESH-INTERVAL;VALUE=DURATION:PT1H
X-Robots-Tag:noindex
X-PUBLISHED-TTL:PT1H
BEGIN:VTIMEZONE
TZID:America/Toronto
BEGIN:DAYLIGHT
TZOFFSETFROM:-0500
TZOFFSETTO:-0400
TZNAME:EDT
DTSTART:20150308T070000
END:DAYLIGHT
BEGIN:STANDARD
TZOFFSETFROM:-0400
TZOFFSETTO:-0500
TZNAME:EST
DTSTART:20151101T060000
END:STANDARD
BEGIN:DAYLIGHT
TZOFFSETFROM:-0500
TZOFFSETTO:-0400
TZNAME:EDT
DTSTART:20160313T070000
END:DAYLIGHT
BEGIN:STANDARD
TZOFFSETFROM:-0400
TZOFFSETTO:-0500
TZNAME:EST
DTSTART:20161106T060000
END:STANDARD
BEGIN:DAYLIGHT
TZOFFSETFROM:-0500
TZOFFSETTO:-0400
TZNAME:EDT
DTSTART:20170312T070000
END:DAYLIGHT
BEGIN:STANDARD
TZOFFSETFROM:-0400
TZOFFSETTO:-0500
TZNAME:EST
DTSTART:20171105T060000
END:STANDARD
END:VTIMEZONE
BEGIN:VEVENT
DTSTART;TZID=America/Toronto:20161005T120000
DTEND;TZID=America/Toronto:20161005T130000
DTSTAMP:20260421T073049
CREATED:20160719T135230Z
LAST-MODIFIED:20200302T172904Z
UID:2384-1475668800-1475672400@chiropractic.on.ca
SUMMARY:Spine Sparing Strategies 
DESCRIPTION:This webinar will review the evidence on the relationship between hip mobility and lumbar spine function. Dr. Shawn Thistle will demonstrate simple spine-sparing treatment and exercise techniques for your older patients. \nSpeaker: Dr. Shawn Thistle\, RRS Education \n\nWatch Webinar\nPlease login to view content.
URL:https://chiropractic.on.ca/event/spine-sparing-strategies/
CATEGORIES:Patient Care
END:VEVENT
BEGIN:VEVENT
DTSTART;TZID=America/Toronto:20161019T120000
DTEND;TZID=America/Toronto:20161019T130000
DTSTAMP:20260421T073049
CREATED:20160719T135725Z
LAST-MODIFIED:20200302T172617Z
UID:2386-1476878400-1476882000@chiropractic.on.ca
SUMMARY:Business Practices 
DESCRIPTION:This webinar will make members aware of the expectations set out by the College of Chiropractors of Ontario regarding business practices\, including with respect to advertising\, disclosure of fees\, block fees and/or payment plans\, etc. \nSpeaker: Lad Kucis\, Gardiner Roberts LLP \n\nWatch the Webinar\nPlease login to view content.
URL:https://chiropractic.on.ca/event/business-practices/
CATEGORIES:Legal and Compliance
END:VEVENT
BEGIN:VEVENT
DTSTART;TZID=America/Toronto:20161027T121500
DTEND;TZID=America/Toronto:20161027T130000
DTSTAMP:20260421T073049
CREATED:20160926T152711Z
LAST-MODIFIED:20160926T152711Z
UID:3347-1477570500-1477573200@chiropractic.on.ca
SUMMARY:Telephone Town Hall: Lab Tests & Imaging Advocacy (Live Q&A with OCA President Dr. Ayla Azad and CEO Dr. Bob Haig)
DESCRIPTION:We believe it is important for our members to have opportunities to connect directly with OCA leadership. This telephone town hall provides an update on how our advocacy efforts are progressing while providing some clarity on the current governmental health care landscape and our current approach within that context. \nDr. Ayla Azad (OCA President) and Dr. Bob Haig (OCA CEO) updated members on our advocacy with the government on three main issues: a) reinstatement of hospital ordering rights\, and b) ordering authority for advanced imaging and c) ordering authority for laboratory tests. \nDrs. Azad and Haig gave a 20-minute presentation and then opened the floor for a live Q&A. \nThe telephone town hall was available toll-free to members across the province. \n\nListen to the Telephone Town Hall Recording\nYou must be logged in to view this content. Click here to login \n  \n 
URL:https://chiropractic.on.ca/event/telephone-town-hall-lab-tests-imaging-advocacy-live-qa-oca-president-dr-ayla-azad-ceo-dr-bob-haig/
CATEGORIES:Consultations
END:VEVENT
END:VCALENDAR