BEGIN:VCALENDAR
VERSION:2.0
PRODID:-//OCA - ECPv6.15.18//NONSGML v1.0//EN
CALSCALE:GREGORIAN
METHOD:PUBLISH
X-WR-CALNAME:OCA
X-ORIGINAL-URL:https://chiropractic.on.ca
X-WR-CALDESC:Events for OCA
REFRESH-INTERVAL;VALUE=DURATION:PT1H
X-Robots-Tag:noindex
X-PUBLISHED-TTL:PT1H
BEGIN:VTIMEZONE
TZID:America/Toronto
BEGIN:DAYLIGHT
TZOFFSETFROM:-0500
TZOFFSETTO:-0400
TZNAME:EDT
DTSTART:20150308T070000
END:DAYLIGHT
BEGIN:STANDARD
TZOFFSETFROM:-0400
TZOFFSETTO:-0500
TZNAME:EST
DTSTART:20151101T060000
END:STANDARD
BEGIN:DAYLIGHT
TZOFFSETFROM:-0500
TZOFFSETTO:-0400
TZNAME:EDT
DTSTART:20160313T070000
END:DAYLIGHT
BEGIN:STANDARD
TZOFFSETFROM:-0400
TZOFFSETTO:-0500
TZNAME:EST
DTSTART:20161106T060000
END:STANDARD
BEGIN:DAYLIGHT
TZOFFSETFROM:-0500
TZOFFSETTO:-0400
TZNAME:EDT
DTSTART:20170312T070000
END:DAYLIGHT
BEGIN:STANDARD
TZOFFSETFROM:-0400
TZOFFSETTO:-0500
TZNAME:EST
DTSTART:20171105T060000
END:STANDARD
END:VTIMEZONE
BEGIN:VEVENT
DTSTART;TZID=America/Toronto:20160914T120000
DTEND;TZID=America/Toronto:20160914T130000
DTSTAMP:20260421T085501
CREATED:20160719T134631Z
LAST-MODIFIED:20200302T173046Z
UID:2381-1473854400-1473858000@chiropractic.on.ca
SUMMARY:Increasing the Usability of Your New Website
DESCRIPTION:This webinar will feature recommendations on making your website user‐friendly and easy to navigate\, attracting users to highlighted content and creating effective calls to action. We will focus on formatting\, organization and layout. \nSpeaker: Jenn Melynk\, SiteWyze Solutions \n\nWatch Webinar\nPlease login to view content. \n 
URL:https://chiropractic.on.ca/event/increasing-usability-new-website/
CATEGORIES:Business Management,Marketing and Promotion
END:VEVENT
BEGIN:VEVENT
DTSTART;TZID=America/Toronto:20160921T120000
DTEND;TZID=America/Toronto:20160921T130000
DTSTAMP:20260421T085501
CREATED:20160719T134805Z
LAST-MODIFIED:20200302T173038Z
UID:2382-1474459200-1474462800@chiropractic.on.ca
SUMMARY:Mobile Search Optimization
DESCRIPTION:This webinar will explain local Search Engine Optimization and show you how to improve your mobile search rankings on Google Maps\, local Google search rankings\, local business listings and more. \nSpeaker: Falk Jaehnchen\, Spark Marketing \n\nWatch Webinar\nPlease login to view content.
URL:https://chiropractic.on.ca/event/mobile-search-optimization/
CATEGORIES:Marketing and Promotion
END:VEVENT
END:VCALENDAR