BEGIN:VCALENDAR
VERSION:2.0
PRODID:-//OCA - ECPv6.15.18//NONSGML v1.0//EN
CALSCALE:GREGORIAN
METHOD:PUBLISH
X-WR-CALNAME:OCA
X-ORIGINAL-URL:https://chiropractic.on.ca
X-WR-CALDESC:Events for OCA
REFRESH-INTERVAL;VALUE=DURATION:PT1H
X-Robots-Tag:noindex
X-PUBLISHED-TTL:PT1H
BEGIN:VTIMEZONE
TZID:UTC
BEGIN:STANDARD
TZOFFSETFROM:+0000
TZOFFSETTO:+0000
TZNAME:UTC
DTSTART:20150101T000000
END:STANDARD
END:VTIMEZONE
BEGIN:VEVENT
DTSTART;TZID=UTC:20160402T080000
DTEND;TZID=UTC:20160402T170000
DTSTAMP:20260421T164129
CREATED:20160510T001748Z
LAST-MODIFIED:20160510T001748Z
UID:1342-1459584000-1459616400@chiropractic.on.ca
SUMMARY:RRS Education Seminar Ottawa – Low Back Pain: Effective\, Sustainable & Profitable Patient Care
DESCRIPTION:Date: Saturday\, April 2 (8am – 5pm) \nLocation: Ottawa Marriott (100 Kent St.\, Ottawa) \nCEUs: 8.0 structured continuing education hours/credits/CEUs \nCost: $439 (early-bird discount) + HST \n\nThis seminar\, presented by Dr. Shawn Thistle\, provides practicing clinicians with realistic insight into the integration of current knowledge & research evidence about low back pain (LBP) into clinical practice. Effective\, sustainable & profitable patient care for LBP is possible through the rational combination of research\, clinical experience & patient preferences!
URL:https://chiropractic.on.ca/event/rrs-education-seminar-ottawa-low-back-pain-effective-sustainable-profitable-patient-care/
CATEGORIES:Workshops
END:VEVENT
BEGIN:VEVENT
DTSTART;TZID=UTC:20160403T090000
DTEND;TZID=UTC:20160403T150000
DTSTAMP:20260421T164129
CREATED:20160510T001915Z
LAST-MODIFIED:20160510T001915Z
UID:1343-1459674000-1459695600@chiropractic.on.ca
SUMMARY:RRS Education Seminar – Clinical Mini-Lecture Series – Concussion & Headache
DESCRIPTION:Sunday\, April 3 (9am – 3pm)  \nLocation: Ottawa Marriott (100 Kent St.\, Ottawa) \nCEUs: 5.0 structured continuing education hours/credits/CEUs \nCost: $279 (early-bird discount) + HST \n\nSleep in\, enjoy the seminar and be home in time for a late afternoon nap! Concussions and headaches will be the featured topics at this convenient seminar.
URL:https://chiropractic.on.ca/event/rrs-education-seminar-clinical-mini-lecture-series-concussion-headache/
CATEGORIES:Workshops
END:VEVENT
BEGIN:VEVENT
DTSTART;TZID=UTC:20160406T120000
DTEND;TZID=UTC:20160406T130000
DTSTAMP:20260421T164129
CREATED:20160509T191406Z
LAST-MODIFIED:20200302T173212Z
UID:1339-1459944000-1459947600@chiropractic.on.ca
SUMMARY:AODA: Accessible Employment and Customer Service Standards
DESCRIPTION:This overview will demystify the requirements of the Accessible Employment and Customer Service standards of the Accessibility for Ontarians with Disabilities Act (AODA) and how you can ensure accessibility in hiring\, staff retention\, career development opportunities and customer service. \nThe Accessibility Directorate of Ontario supports the vision of an accessible Ontario by 2025 under the Accessibility for Ontarians with Disabilities Act\, (AODA) through the development\, implementation and enforcement of accessibility standards that apply to public sector\, non-profit and private sector organizations. The AODA requires organizations to implement Accessibility Standards to become more accessible to people with disabilities. \n\nWatch Webinar\nPlease login to view content.
URL:https://chiropractic.on.ca/event/aoda-accessible-employment-customer-service-standards/
CATEGORIES:Legal and Compliance
END:VEVENT
BEGIN:VEVENT
DTSTART;TZID=UTC:20160409T080000
DTEND;TZID=UTC:20160409T170000
DTSTAMP:20260421T164129
CREATED:20160510T181245Z
LAST-MODIFIED:20160510T181245Z
UID:1344-1460188800-1460221200@chiropractic.on.ca
SUMMARY:RRS Education Seminar Toronto – Low Back Pain: Effective\, Sustainable & Profitable Patient Care
DESCRIPTION:TORONTO – WORLD SPINE CARE FUNDRAISER!\n \nLocation: BMO Institute for Learning (3550 Pharmacy Ave – near 404 & Steeles Ave) \nCEUs: 8.0 structured continuing education hours/credits/CEUs \nCost: $399 (early-bird discount) + HST \nProceeds from this Seminar will be donated to World Spine Care! \n\nThis seminar\, presented by Dr. Shawn Thistle\, provides practicing clinicians with realistic insight into the integration of current knowledge & research evidence about low back pain (LBP) into clinical practice. Effective\, sustainable & profitable patient care for LBP is possible through the rational combination of research\, clinical experience & patient preferences!
URL:https://chiropractic.on.ca/event/rrs-education-seminar-toronto-low-back-pain-effective-sustainable-profitable-patient-care/
CATEGORIES:Workshops
END:VEVENT
BEGIN:VEVENT
DTSTART;TZID=UTC:20160410T090000
DTEND;TZID=UTC:20160410T150000
DTSTAMP:20260421T164129
CREATED:20160510T181417Z
LAST-MODIFIED:20160510T181417Z
UID:1345-1460278800-1460300400@chiropractic.on.ca
SUMMARY:RRS Education Seminar Toronto  – Clinical Mini-Lecture Series – Concussion & Headache
DESCRIPTION:Location: BMO Institute for Learning (3550 Pharmacy Ave – near 404 & Steeles Ave) \nCEUs: 5.0 structured continuing education hours/credits/CEUs \nCost: $279 (early-bird discount) + HST \n\nSleep in\, enjoy the seminar and be home in time for a late afternoon nap! Concussions and headaches will be the featured topics at this convenient seminar.
URL:https://chiropractic.on.ca/event/rrs-education-seminar-toronto-clinical-mini-lecture-series-concussion-headache/
END:VEVENT
BEGIN:VEVENT
DTSTART;TZID=UTC:20160413T120000
DTEND;TZID=UTC:20160413T130000
DTSTAMP:20260421T164129
CREATED:20160509T183206Z
LAST-MODIFIED:20200302T173203Z
UID:1325-1460548800-1460552400@chiropractic.on.ca
SUMMARY:Understanding Cloud Technology
DESCRIPTION:What does cloud technology mean for your clinic? \nThis webinar will give an overview of cloud technology\, privacy and security\, the benefits of cloud storage to your clinic\, and dispel some common misconceptions. \nSpeaker: Ron G. Parker\, Group Director\, Emerging Technology \n\nWatch Webinar\nPlease login to view content.
URL:https://chiropractic.on.ca/event/understanding-cloud-technology/
CATEGORIES:Business Management
END:VEVENT
BEGIN:VEVENT
DTSTART;TZID=UTC:20160420T120000
DTEND;TZID=UTC:20160420T130000
DTSTAMP:20260421T164129
CREATED:20160509T185353Z
LAST-MODIFIED:20200402T171331Z
UID:1329-1461153600-1461157200@chiropractic.on.ca
SUMMARY:Relevance of the Thoracic Spine in Neck Pain
DESCRIPTION:There is mounting evidence suggesting that assessing and treating thoracic spine function is paramount in the comprehensive management of mechanical neck pain – we will review this body of literature and put it in the context of daily patient management. \n\nSpeaker \nDr. Shawn Thistle\, RRS Education \n\nWatch Webinar\nPlease login to view content.
URL:https://chiropractic.on.ca/event/relevance-thoracic-spine-neck-pain-2/
CATEGORIES:Patient Care
END:VEVENT
BEGIN:VEVENT
DTSTART;TZID=UTC:20160424T080000
DTEND;TZID=UTC:20160424T170000
DTSTAMP:20260421T164129
CREATED:20160510T181541Z
LAST-MODIFIED:20160510T181541Z
UID:1346-1461484800-1461517200@chiropractic.on.ca
SUMMARY:RRS Education Seminar London – Neck Pain – A Contemporary Clinical Approach
DESCRIPTION:Location: Ivey Spencer Leadership Centre (551 Windemere Rd.\, London) \nCEUs: 8.0 structured continuing education hours/credits/CEUs \nCost: $439 (early-bird discount) + HST \n\nThe focus of this course will be the integration of current cervical spine and neck pain research into rational\, effective patient care.  Cover years of important research in one day\, raise your comfort level with the state of literature on neck pain and understand its limitations and possibilities for benefitting your patients and your practice!
URL:https://chiropractic.on.ca/event/rrs-education-seminar-london-neck-pain-contemporary-clinical-approach/
CATEGORIES:Workshops
END:VEVENT
END:VCALENDAR