BEGIN:VCALENDAR
VERSION:2.0
PRODID:-//OCA - ECPv6.15.18//NONSGML v1.0//EN
CALSCALE:GREGORIAN
METHOD:PUBLISH
X-ORIGINAL-URL:https://chiropractic.on.ca
X-WR-CALDESC:Events for OCA
REFRESH-INTERVAL;VALUE=DURATION:PT1H
X-Robots-Tag:noindex
X-PUBLISHED-TTL:PT1H
BEGIN:VTIMEZONE
TZID:UTC
BEGIN:STANDARD
TZOFFSETFROM:+0000
TZOFFSETTO:+0000
TZNAME:UTC
DTSTART:20140101T000000
END:STANDARD
END:VTIMEZONE
BEGIN:VEVENT
DTSTART;TZID=UTC:20151205T153000
DTEND;TZID=UTC:20151205T163000
DTSTAMP:20260422T005538
CREATED:20160505T000914Z
LAST-MODIFIED:20160505T000914Z
UID:1100-1449329400-1449333000@chiropractic.on.ca
SUMMARY:OCA Annual General Meeting
DESCRIPTION:Attend In Toronto or Online: December 5\, 2015\nPursuant to the Bylaws of the Association\, notice is hereby given that the 2015 Annual General Meeting (AGM) of the membership of the Ontario Chiropractic Association will be held at the Hilton Toronto\, 145 Richmond Street West\, 2nd Floor\, Governor General Suite\, in Toronto on Saturday\, December 5\, 2015 at 3:30 PM. \nThe agenda will include: \n\nAnnual Report of the Association\, incorporating a message from the President\nAudited Financial Statements\nElection of four members to the Ontario Chiropractic Association Board of Directors\nAppointment of Auditors; Directors to fix Auditor’s Remuneration\nAny other business that may properly come before the meeting\n\nAll OCA members are urged to attend the AGM. \n \nIf you are unable to attend in person\, you may complete and return your Proxy by mail to the OCA office no later than 5 PM\, Wednesday\, December 2\, 2015. \n\nPrint and Complete a Proxy\n\nOCA Board Election\nThis year\, there were four open positions on the OCA Board of Directors. Following the Call for Nominations\, four members were nominated to the Board: \n\nDr. Ken Brough\nDr. Heather Norman\nDr. John Riva\nDr. Shima Shahidy\n\nAs no other candidates have come forward\, these four members will be elected by acclamation at the AGM on December 5\, 2015.
URL:https://chiropractic.on.ca/event/oca-annual-general-meeting/
CATEGORIES:Conferences
END:VEVENT
BEGIN:VEVENT
DTSTART;TZID=UTC:20151215T120000
DTEND;TZID=UTC:20151215T130000
DTSTAMP:20260422T005538
CREATED:20160509T150703Z
LAST-MODIFIED:20210331T173454Z
UID:1294-1450180800-1450184400@chiropractic.on.ca
SUMMARY:GST/HST Rules for Payments Between Practitioners
DESCRIPTION:Which GST/HST rules apply when making payments to individuals who work within your practice? This webinar will look at who GST/HST should be charged to and when GST/HST should be applied. \n— SRJCA – Rishabh Khamesra \n\nWatch Webinar
URL:https://chiropractic.on.ca/event/gsthst-rules-payments-practitioners/
CATEGORIES:Financial Management
END:VEVENT
END:VCALENDAR