BEGIN:VCALENDAR
VERSION:2.0
PRODID:-//OCA - ECPv6.15.18//NONSGML v1.0//EN
CALSCALE:GREGORIAN
METHOD:PUBLISH
X-ORIGINAL-URL:https://chiropractic.on.ca
X-WR-CALDESC:Events for OCA
REFRESH-INTERVAL;VALUE=DURATION:PT1H
X-Robots-Tag:noindex
X-PUBLISHED-TTL:PT1H
BEGIN:VTIMEZONE
TZID:UTC
BEGIN:STANDARD
TZOFFSETFROM:+0000
TZOFFSETTO:+0000
TZNAME:UTC
DTSTART:20140101T000000
END:STANDARD
END:VTIMEZONE
BEGIN:VEVENT
DTSTART;TZID=UTC:20150916T120000
DTEND;TZID=UTC:20150916T130000
DTSTAMP:20260422T054427
CREATED:20160505T172239Z
LAST-MODIFIED:20200302T173415Z
UID:1235-1442404800-1442408400@chiropractic.on.ca
SUMMARY:Spine Sparing Strategies: Hip Mobility and Healthy Aging
DESCRIPTION:This webinar will review the evidence on the relationship between hip mobility and lumbar spine function. Dr. Shawn Thistle will demonstrate simple spine-sparing treatment and exercise techniques for your older patients. \n— Shawn Thistle\, RRS Education \nWatch Webinar\nPlease login to view content.
URL:https://chiropractic.on.ca/event/spine-sparing-strategies-hip-mobility-healthy-aging/
CATEGORIES:Patient Care
END:VEVENT
BEGIN:VEVENT
DTSTART;TZID=UTC:20150918T090000
DTEND;TZID=UTC:20150920T133000
DTSTAMP:20260422T054427
CREATED:20160505T222028Z
LAST-MODIFIED:20160505T222028Z
UID:1234-1442566800-1442755800@chiropractic.on.ca
SUMMARY:CCA National Convention & Tradeshow
DESCRIPTION:The 2015 CCA National Convention & Tradeshow is Canada’s largest chiropractic show\, bringing together over 600 chiropractic clinicians\, as well as researchers\, and exhibitors. \nThe convention will be held at the beautiful Scotiabank Convention Centre in Niagara Falls\, Ontario on September 18-20\, 2015 and will be a history-making event bringing together Canada’s Chiropractic Specialty Colleges\, Research Symposium\, Canadian Chiropractic Protective Association and Canadian Chiropractic Guideline Initiative for the first time ever around the theme of Advancing Excellence in Patient Care.
URL:https://chiropractic.on.ca/event/cca-national-convention-tradeshow/
CATEGORIES:Conferences
END:VEVENT
END:VCALENDAR