BEGIN:VCALENDAR
VERSION:2.0
PRODID:-//OCA - ECPv6.15.18//NONSGML v1.0//EN
CALSCALE:GREGORIAN
METHOD:PUBLISH
X-WR-CALNAME:OCA
X-ORIGINAL-URL:https://chiropractic.on.ca
X-WR-CALDESC:Events for OCA
REFRESH-INTERVAL;VALUE=DURATION:PT1H
X-Robots-Tag:noindex
X-PUBLISHED-TTL:PT1H
BEGIN:VTIMEZONE
TZID:UTC
BEGIN:STANDARD
TZOFFSETFROM:+0000
TZOFFSETTO:+0000
TZNAME:UTC
DTSTART:20140101T000000
END:STANDARD
END:VTIMEZONE
BEGIN:VEVENT
DTSTART;TZID=UTC:20150211T120000
DTEND;TZID=UTC:20150211T130000
DTSTAMP:20260422T193128
CREATED:20160505T134505Z
LAST-MODIFIED:20200827T175243Z
UID:1107-1423656000-1423659600@chiropractic.on.ca
SUMMARY:Tax Planning & the Health Care Industry
DESCRIPTION:This tax planning webinar is a must for chiropractors who practice under the professional corporation structure. We examine strategies that involve both salaries and dividends. Hosted by SRJ Chartered Professional Accountants (SRJ). \n\nWatch the Webinar
URL:https://chiropractic.on.ca/event/tax-planning-healthcare-industry/
CATEGORIES:Financial Management
END:VEVENT
BEGIN:VEVENT
DTSTART;TZID=UTC:20150225T120000
DTEND;TZID=UTC:20150225T130000
DTSTAMP:20260422T193128
CREATED:20160505T134905Z
LAST-MODIFIED:20200302T170316Z
UID:1109-1424865600-1424869200@chiropractic.on.ca
SUMMARY:The Current State of Diabetes in Ontario
DESCRIPTION:Get the latest on the Ontario Diabetes Strategy from Debbie Hollahan\, Director of the Waterloo Wellington LHIN Diabetes Central Intake Office. The latest research on diabetes care and management is also covered in this webinar. \n\nWatch the Webinar\nPlease login to view content.
URL:https://chiropractic.on.ca/event/diabetes-update/
CATEGORIES:Patient Care
END:VEVENT
END:VCALENDAR