BEGIN:VCALENDAR
VERSION:2.0
PRODID:-//OCA - ECPv6.15.18//NONSGML v1.0//EN
CALSCALE:GREGORIAN
METHOD:PUBLISH
X-ORIGINAL-URL:https://chiropractic.on.ca
X-WR-CALDESC:Events for OCA
REFRESH-INTERVAL;VALUE=DURATION:PT1H
X-Robots-Tag:noindex
X-PUBLISHED-TTL:PT1H
BEGIN:VTIMEZONE
TZID:UTC
BEGIN:STANDARD
TZOFFSETFROM:+0000
TZOFFSETTO:+0000
TZNAME:UTC
DTSTART:20130101T000000
END:STANDARD
END:VTIMEZONE
BEGIN:VEVENT
DTSTART;TZID=UTC:20141115T070000
DTEND;TZID=UTC:20141116T120000
DTSTAMP:20260423T030954
CREATED:20160505T183750Z
LAST-MODIFIED:20160505T183750Z
UID:1106-1416034800-1416139200@chiropractic.on.ca
SUMMARY:Canadian Chiropractic Scientific Symposium
DESCRIPTION:4th Annual Canadian Chiropractic Scientific Symposium hosted by the Canadian Chiropractic Specialty Colleges. \nSaturday\, November 15\, 2014 with optional Presentations on Sunday\, November 16\, 2014 \nOmni King Edward Hotel\n37 King Street East\, Toronto\, Ontario \nOn Saturday\, November 15\, 2014 members of Canada’s chiropractic community will come together for the fourth annual scientific symposium\, bringing together chiropractors from across Canada for an intense day of learning and exchange. \nThe Symposium will feature plenary sessions and a Grand Rounds presentation with panel discussion focusing on the theme of Diagnosis and Treatment of Upper Extremities. NEW THIS YEAR the Chiropractic Sciences\, Rehabilitation\, and Orthopedist Colleges will present optional workshops on Sunday morning\, November 16 on issues related to the symposium theme. Choose 2 of 3 workshops.
URL:https://chiropractic.on.ca/event/canadian-chiropractic-scientific-symposium/
CATEGORIES:Conferences
END:VEVENT
END:VCALENDAR