BEGIN:VCALENDAR
VERSION:2.0
PRODID:-//OCA - ECPv6.15.18//NONSGML v1.0//EN
CALSCALE:GREGORIAN
METHOD:PUBLISH
X-WR-CALNAME:OCA
X-ORIGINAL-URL:https://chiropractic.on.ca
X-WR-CALDESC:Events for OCA
REFRESH-INTERVAL;VALUE=DURATION:PT1H
X-Robots-Tag:noindex
X-PUBLISHED-TTL:PT1H
BEGIN:VTIMEZONE
TZID:UTC
BEGIN:STANDARD
TZOFFSETFROM:+0000
TZOFFSETTO:+0000
TZNAME:UTC
DTSTART:20130101T000000
END:STANDARD
END:VTIMEZONE
BEGIN:VEVENT
DTSTART;TZID=UTC:20140514T120000
DTEND;TZID=UTC:20140514T130000
DTSTAMP:20260423T182203
CREATED:20160504T131005Z
LAST-MODIFIED:20230411T223049Z
UID:990-1400068800-1400072400@chiropractic.on.ca
SUMMARY:The State of Auto Insurance and Chiropractic
DESCRIPTION:What is happening in auto insurance? Join Dr. Moez Rajwani for updates on the Minor Injury Guideline\, HCAI\, and FSCO’s Service Provider Licensing. \n\nWatch the Webinar
URL:https://chiropractic.on.ca/event/state-auto-insurance-chiropractic/
CATEGORIES:Legal and Compliance
END:VEVENT
END:VCALENDAR