BEGIN:VCALENDAR
VERSION:2.0
PRODID:-//OCA - ECPv6.15.18//NONSGML v1.0//EN
CALSCALE:GREGORIAN
METHOD:PUBLISH
X-ORIGINAL-URL:https://chiropractic.on.ca
X-WR-CALDESC:Events for OCA
REFRESH-INTERVAL;VALUE=DURATION:PT1H
X-Robots-Tag:noindex
X-PUBLISHED-TTL:PT1H
BEGIN:VTIMEZONE
TZID:America/Toronto
BEGIN:DAYLIGHT
TZOFFSETFROM:-0500
TZOFFSETTO:-0400
TZNAME:EDT
DTSTART:20250309T070000
END:DAYLIGHT
BEGIN:STANDARD
TZOFFSETFROM:-0400
TZOFFSETTO:-0500
TZNAME:EST
DTSTART:20251102T060000
END:STANDARD
BEGIN:DAYLIGHT
TZOFFSETFROM:-0500
TZOFFSETTO:-0400
TZNAME:EDT
DTSTART:20260308T070000
END:DAYLIGHT
BEGIN:STANDARD
TZOFFSETFROM:-0400
TZOFFSETTO:-0500
TZNAME:EST
DTSTART:20261101T060000
END:STANDARD
BEGIN:DAYLIGHT
TZOFFSETFROM:-0500
TZOFFSETTO:-0400
TZNAME:EDT
DTSTART:20270314T070000
END:DAYLIGHT
BEGIN:STANDARD
TZOFFSETFROM:-0400
TZOFFSETTO:-0500
TZNAME:EST
DTSTART:20271107T060000
END:STANDARD
END:VTIMEZONE
BEGIN:VEVENT
DTSTART;TZID=America/Toronto:20260506T120000
DTEND;TZID=America/Toronto:20260506T130000
DTSTAMP:20260425T215416
CREATED:20260424T140339Z
LAST-MODIFIED:20260424T140339Z
UID:104975-1778068800-1778072400@chiropractic.on.ca
SUMMARY:OCA Advance: Sports Chiropractic: Insights and Lessons from World Cup Level Soccer
DESCRIPTION:As the lead‑up to the 2026 FIFA World Cup continues\, this webinar offers Ontario chiropractors a practical look at sports chiropractic in elite soccer. \nHost Dr. Scott Howitt will draw on his experience working with the Canada Men’s National Soccer Team and explore the chiropractor’s role in injury management\, recovery\, and performance optimization\, with takeaways that can be applied to sport‑focused practice beyond the elite level. \nRegister: https://register.gotowebinar.com/register/5482982367224594528
URL:https://chiropractic.on.ca/event/oca-advance-sports-chiropractic-insights-and-lessons-from-world-cup-level-soccer/
CATEGORIES:Patient Care,Webinar
ATTACH;FMTTYPE=image/png:https://chiropractic.on.ca/wp-content/uploads/oca-advance-may-6-sports.png
END:VEVENT
END:VCALENDAR