BEGIN:VCALENDAR
VERSION:2.0
PRODID:-//OCA - ECPv6.15.18//NONSGML v1.0//EN
CALSCALE:GREGORIAN
METHOD:PUBLISH
X-WR-CALNAME:OCA
X-ORIGINAL-URL:https://chiropractic.on.ca
X-WR-CALDESC:Events for OCA
REFRESH-INTERVAL;VALUE=DURATION:PT1H
X-Robots-Tag:noindex
X-PUBLISHED-TTL:PT1H
BEGIN:VTIMEZONE
TZID:America/Toronto
BEGIN:DAYLIGHT
TZOFFSETFROM:-0500
TZOFFSETTO:-0400
TZNAME:EDT
DTSTART:20220313T070000
END:DAYLIGHT
BEGIN:STANDARD
TZOFFSETFROM:-0400
TZOFFSETTO:-0500
TZNAME:EST
DTSTART:20221106T060000
END:STANDARD
BEGIN:DAYLIGHT
TZOFFSETFROM:-0500
TZOFFSETTO:-0400
TZNAME:EDT
DTSTART:20230312T070000
END:DAYLIGHT
BEGIN:STANDARD
TZOFFSETFROM:-0400
TZOFFSETTO:-0500
TZNAME:EST
DTSTART:20231105T060000
END:STANDARD
BEGIN:DAYLIGHT
TZOFFSETFROM:-0500
TZOFFSETTO:-0400
TZNAME:EDT
DTSTART:20240310T070000
END:DAYLIGHT
BEGIN:STANDARD
TZOFFSETFROM:-0400
TZOFFSETTO:-0500
TZNAME:EST
DTSTART:20241103T060000
END:STANDARD
END:VTIMEZONE
BEGIN:VEVENT
DTSTART;TZID=America/Toronto:20230222T120000
DTEND;TZID=America/Toronto:20230222T130000
DTSTAMP:20260421T221458
CREATED:20210202T195140Z
LAST-MODIFIED:20230228T221406Z
UID:15336-1677067200-1677070800@chiropractic.on.ca
SUMMARY:OCA Advance Presents: “That couldn’t happen to me!”
DESCRIPTION:In this webinar\, the CCPA Claims Team will share stories from real cases to demonstrate how incidents in practice can happen despite our best intentions. You’ll learn about how best practices in record keeping and evaluation can make or break the outcomes of liability cases. \n\nSpeakers\nDr. Dean Wright\, Dr. Shima Shahidy\, Dr. Kathryn Wheatley \n\nOriginal Broadcast\nFebruary 3\, 2021 \n\nWatch Webinar
URL:https://chiropractic.on.ca/event/that-couldnt-happen-to-me/
CATEGORIES:Legal and Compliance,Webinar
END:VEVENT
END:VCALENDAR