BEGIN:VCALENDAR
VERSION:2.0
PRODID:-//OCA - ECPv6.15.18//NONSGML v1.0//EN
CALSCALE:GREGORIAN
METHOD:PUBLISH
X-WR-CALNAME:OCA
X-ORIGINAL-URL:https://chiropractic.on.ca
X-WR-CALDESC:Events for OCA
REFRESH-INTERVAL;VALUE=DURATION:PT1H
X-Robots-Tag:noindex
X-PUBLISHED-TTL:PT1H
BEGIN:VTIMEZONE
TZID:America/Toronto
BEGIN:DAYLIGHT
TZOFFSETFROM:-0500
TZOFFSETTO:-0400
TZNAME:EDT
DTSTART:20220313T070000
END:DAYLIGHT
BEGIN:STANDARD
TZOFFSETFROM:-0400
TZOFFSETTO:-0500
TZNAME:EST
DTSTART:20221106T060000
END:STANDARD
BEGIN:DAYLIGHT
TZOFFSETFROM:-0500
TZOFFSETTO:-0400
TZNAME:EDT
DTSTART:20230312T070000
END:DAYLIGHT
BEGIN:STANDARD
TZOFFSETFROM:-0400
TZOFFSETTO:-0500
TZNAME:EST
DTSTART:20231105T060000
END:STANDARD
BEGIN:DAYLIGHT
TZOFFSETFROM:-0500
TZOFFSETTO:-0400
TZNAME:EDT
DTSTART:20240310T070000
END:DAYLIGHT
BEGIN:STANDARD
TZOFFSETFROM:-0400
TZOFFSETTO:-0500
TZNAME:EST
DTSTART:20241103T060000
END:STANDARD
END:VTIMEZONE
BEGIN:VEVENT
DTSTART;TZID=America/Toronto:20230329T120000
DTEND;TZID=America/Toronto:20230329T130000
DTSTAMP:20260420T083312
CREATED:20211215T154928Z
LAST-MODIFIED:20230331T221116Z
UID:18019-1680091200-1680094800@chiropractic.on.ca
SUMMARY:Personal Finance Mastery Series: 8 Questions to ask your Financial Advisor
DESCRIPTION:Continuing our Personal Finance Mastery Series – Did you know Canada has the highest financial advisor fees in the world? If you don’t know what your advisor is charging you every year\, or where exactly you are invested/what your advisor is doing with your money\, or even how to find an advisor with transparent fees then this webinar is for you! You could save tens\, if not hundreds of thousands of dollars over your lifetime. This webinar let’s you know the right questions to ask when finding an advisor that works for YOUR situation. \n\nSpeaker(s)\nEnriched Academy \n\nOriginal Broadcast\nJanuary 19\, 2022 \n\nWatch Webinar
URL:https://chiropractic.on.ca/event/personal-finance-mastery-series-8-questions-to-ask-your-financial-advisor/
CATEGORIES:Financial Management,Webinar
END:VEVENT
END:VCALENDAR