BEGIN:VCALENDAR
VERSION:2.0
PRODID:-//OCA - ECPv6.15.18//NONSGML v1.0//EN
CALSCALE:GREGORIAN
METHOD:PUBLISH
X-WR-CALNAME:OCA
X-ORIGINAL-URL:https://chiropractic.on.ca
X-WR-CALDESC:Events for OCA
REFRESH-INTERVAL;VALUE=DURATION:PT1H
X-Robots-Tag:noindex
X-PUBLISHED-TTL:PT1H
BEGIN:VTIMEZONE
TZID:America/Toronto
BEGIN:DAYLIGHT
TZOFFSETFROM:-0500
TZOFFSETTO:-0400
TZNAME:EDT
DTSTART:20220313T070000
END:DAYLIGHT
BEGIN:STANDARD
TZOFFSETFROM:-0400
TZOFFSETTO:-0500
TZNAME:EST
DTSTART:20221106T060000
END:STANDARD
BEGIN:DAYLIGHT
TZOFFSETFROM:-0500
TZOFFSETTO:-0400
TZNAME:EDT
DTSTART:20230312T070000
END:DAYLIGHT
BEGIN:STANDARD
TZOFFSETFROM:-0400
TZOFFSETTO:-0500
TZNAME:EST
DTSTART:20231105T060000
END:STANDARD
BEGIN:DAYLIGHT
TZOFFSETFROM:-0500
TZOFFSETTO:-0400
TZNAME:EDT
DTSTART:20240310T070000
END:DAYLIGHT
BEGIN:STANDARD
TZOFFSETFROM:-0400
TZOFFSETTO:-0500
TZNAME:EST
DTSTART:20241103T060000
END:STANDARD
END:VTIMEZONE
BEGIN:VEVENT
DTSTART;TZID=America/Toronto:20230208T120000
DTEND;TZID=America/Toronto:20230208T130000
DTSTAMP:20260420T144226
CREATED:20170726T125740Z
LAST-MODIFIED:20230209T201319Z
UID:5209-1675857600-1675861200@chiropractic.on.ca
SUMMARY:OCA Advance Presents: Patient Care for People Living with Dementia
DESCRIPTION:There are 564\,000 Canadians living with dementia. It’s important for every practitioner to know best practices for caring for these patients. \nJoin the OCA and the Alzheimer Society of Ontario to learn: \n• What Dementia is\n• How to recognize signs and symptoms\n• The effects of movement/physical activity on cognition and general well-being\n• Communication tips and best practice strategies\n• How to support people to live well with dementia\n• Training and education opportunities \n\nSpeaker\nAlzheimer Society of Ontario \n\nOriginal Broadcast\nOctober 10\, 2017 \n\nWatch the Webinar
URL:https://chiropractic.on.ca/event/patient-care-people-living-dementia/
CATEGORIES:Patient Care,Webinar
END:VEVENT
END:VCALENDAR