BEGIN:VCALENDAR
VERSION:2.0
PRODID:-//OCA - ECPv6.15.18//NONSGML v1.0//EN
CALSCALE:GREGORIAN
METHOD:PUBLISH
X-ORIGINAL-URL:https://chiropractic.on.ca
X-WR-CALDESC:Events for OCA
REFRESH-INTERVAL;VALUE=DURATION:PT1H
X-Robots-Tag:noindex
X-PUBLISHED-TTL:PT1H
BEGIN:VTIMEZONE
TZID:America/Toronto
BEGIN:DAYLIGHT
TZOFFSETFROM:-0500
TZOFFSETTO:-0400
TZNAME:EDT
DTSTART:20210314T070000
END:DAYLIGHT
BEGIN:STANDARD
TZOFFSETFROM:-0400
TZOFFSETTO:-0500
TZNAME:EST
DTSTART:20211107T060000
END:STANDARD
BEGIN:DAYLIGHT
TZOFFSETFROM:-0500
TZOFFSETTO:-0400
TZNAME:EDT
DTSTART:20220313T070000
END:DAYLIGHT
BEGIN:STANDARD
TZOFFSETFROM:-0400
TZOFFSETTO:-0500
TZNAME:EST
DTSTART:20221106T060000
END:STANDARD
BEGIN:DAYLIGHT
TZOFFSETFROM:-0500
TZOFFSETTO:-0400
TZNAME:EDT
DTSTART:20230312T070000
END:DAYLIGHT
BEGIN:STANDARD
TZOFFSETFROM:-0400
TZOFFSETTO:-0500
TZNAME:EST
DTSTART:20231105T060000
END:STANDARD
END:VTIMEZONE
BEGIN:VEVENT
DTSTART;TZID=America/Toronto:20221123T120000
DTEND;TZID=America/Toronto:20221123T130000
DTSTAMP:20260420T172110
CREATED:20221101T195558Z
LAST-MODIFIED:20230131T165824Z
UID:20638-1669204800-1669208400@chiropractic.on.ca
SUMMARY:OCA Advocacy and Government Relations Information
DESCRIPTION:This Advocacy Webinar is an opportunity to engage with us to learn more about what we are doing to support you and advocate on behalf of our members. We will share updates related to advocacy work on scope enhancement and other topics and opportunities for you to get involved. \n\nSpeakers\nCaroline Brereton\, CEO\, OCA\nDr. Amy Brown\, Chiropractic Consultant\, OCA\nJillian Fernandez\, Manager of Stakeholder Relations\, OCA\nCaroline Pinto\, Counsel Public Affairs\nDevan Sommerville\, Counsel Public Affairs \n\nWatch the Webinar\n\n\nAdditional Resources
URL:https://chiropractic.on.ca/event/oca-advocacy-government-relations-information/
CATEGORIES:Webinar
END:VEVENT
END:VCALENDAR