BEGIN:VCALENDAR
VERSION:2.0
PRODID:-//OCA - ECPv6.15.18//NONSGML v1.0//EN
CALSCALE:GREGORIAN
METHOD:PUBLISH
X-WR-CALNAME:OCA
X-ORIGINAL-URL:https://chiropractic.on.ca
X-WR-CALDESC:Events for OCA
REFRESH-INTERVAL;VALUE=DURATION:PT1H
X-Robots-Tag:noindex
X-PUBLISHED-TTL:PT1H
BEGIN:VTIMEZONE
TZID:America/Toronto
BEGIN:DAYLIGHT
TZOFFSETFROM:-0500
TZOFFSETTO:-0400
TZNAME:EDT
DTSTART:20220313T070000
END:DAYLIGHT
BEGIN:STANDARD
TZOFFSETFROM:-0400
TZOFFSETTO:-0500
TZNAME:EST
DTSTART:20221106T060000
END:STANDARD
BEGIN:DAYLIGHT
TZOFFSETFROM:-0500
TZOFFSETTO:-0400
TZNAME:EDT
DTSTART:20230312T070000
END:DAYLIGHT
BEGIN:STANDARD
TZOFFSETFROM:-0400
TZOFFSETTO:-0500
TZNAME:EST
DTSTART:20231105T060000
END:STANDARD
BEGIN:DAYLIGHT
TZOFFSETFROM:-0500
TZOFFSETTO:-0400
TZNAME:EDT
DTSTART:20240310T070000
END:DAYLIGHT
BEGIN:STANDARD
TZOFFSETFROM:-0400
TZOFFSETTO:-0500
TZNAME:EST
DTSTART:20241103T060000
END:STANDARD
END:VTIMEZONE
BEGIN:VEVENT
DTSTART;TZID=America/Toronto:20230503T120000
DTEND;TZID=America/Toronto:20230503T130000
DTSTAMP:20260420T060157
CREATED:20201022T024750Z
LAST-MODIFIED:20230504T022551Z
UID:14213-1683115200-1683118800@chiropractic.on.ca
SUMMARY:The Right Treatment for the Right Patient: How to Tailor Treatment to Significantly Improve Outcomes in Low Back Pain
DESCRIPTION:Not all low back pain is alike\, yet many practitioners use the same treatment approach for their low back pain patients. In this presentation\, we will describe how to classify low back pain patients into distinct subgroups and match them with these subgroups with specific treatment approaches. Tailoring treatment based on key history and physical exam findings can significantly improve patient outcomes. \n\nSpeaker\nDr. Carlo Ammendolia (DC\, PhD) — Spinemobility \n\nOriginal Broadcast\nNovember 4\, 2020 \n\nWatch Webinar
URL:https://chiropractic.on.ca/event/the-right-treatment-for-the-right-patient-how-to-tailor-treatment-to-significantly-improve-outcomes-in-low-back-pain/
CATEGORIES:Patient Care,Webinar
END:VEVENT
BEGIN:VEVENT
DTSTART;TZID=America/Toronto:20230510T120000
DTEND;TZID=America/Toronto:20230510T130000
DTSTAMP:20260420T060157
CREATED:20200827T174609Z
LAST-MODIFIED:20230510T200213Z
UID:13792-1683720000-1683723600@chiropractic.on.ca
SUMMARY:Breaking the Ice: Three Techniques to Help You Instantly Build Rapport
DESCRIPTION:Building a foundation of trust is a requirement for any successful health care relationship. This webinar covers three successful techniques that enable you to sincerely connect\, build meaningful rapport and foster mutually beneficial relationships. \n\nSpeaker\nIvan Wanis Ruiz\, Dale Carnegie Training \n\nOriginal Broadcast\nOctober 2\, 2019 \n\nWatch the Webinar
URL:https://chiropractic.on.ca/event/breaking-the-ice-three-techniques-to-help-you-instantly-build-rapport/
CATEGORIES:Marketing and Promotion,Webinar
END:VEVENT
BEGIN:VEVENT
DTSTART;TZID=America/Toronto:20230524T120000
DTEND;TZID=America/Toronto:20230524T130000
DTSTAMP:20260420T060157
CREATED:20180920T133951Z
LAST-MODIFIED:20230525T014224Z
UID:7080-1684929600-1684933200@chiropractic.on.ca
SUMMARY:Older Adults: Non-Pharmacological Management Of Chronic Pain
DESCRIPTION:Comprehensive and evidence-based information on non-pharmacological management of chronic pain for older adults. Understand more about the high presence of other physical and psychosocial comorbidities that impact older adults experiencing pain. \n\nSpeaker\nCarlo Ammendolia D.C.\, Ph.D\,  — Spinemobility \n\nOriginal Broadcast\nOctober 10\, 2018 \n\nWatch the Webinar
URL:https://chiropractic.on.ca/event/older-adults-non-pharmacological-management-chronic-pain/
CATEGORIES:Patient Care,Webinar
END:VEVENT
END:VCALENDAR