BEGIN:VCALENDAR
VERSION:2.0
PRODID:-//OCA - ECPv6.15.18//NONSGML v1.0//EN
CALSCALE:GREGORIAN
METHOD:PUBLISH
X-WR-CALNAME:OCA
X-ORIGINAL-URL:https://chiropractic.on.ca
X-WR-CALDESC:Events for OCA
REFRESH-INTERVAL;VALUE=DURATION:PT1H
X-Robots-Tag:noindex
X-PUBLISHED-TTL:PT1H
BEGIN:VTIMEZONE
TZID:America/Toronto
BEGIN:DAYLIGHT
TZOFFSETFROM:-0500
TZOFFSETTO:-0400
TZNAME:EDT
DTSTART:20210314T070000
END:DAYLIGHT
BEGIN:STANDARD
TZOFFSETFROM:-0400
TZOFFSETTO:-0500
TZNAME:EST
DTSTART:20211107T060000
END:STANDARD
BEGIN:DAYLIGHT
TZOFFSETFROM:-0500
TZOFFSETTO:-0400
TZNAME:EDT
DTSTART:20220313T070000
END:DAYLIGHT
BEGIN:STANDARD
TZOFFSETFROM:-0400
TZOFFSETTO:-0500
TZNAME:EST
DTSTART:20221106T060000
END:STANDARD
BEGIN:DAYLIGHT
TZOFFSETFROM:-0500
TZOFFSETTO:-0400
TZNAME:EDT
DTSTART:20230312T070000
END:DAYLIGHT
BEGIN:STANDARD
TZOFFSETFROM:-0400
TZOFFSETTO:-0500
TZNAME:EST
DTSTART:20231105T060000
END:STANDARD
END:VTIMEZONE
BEGIN:VEVENT
DTSTART;TZID=America/Toronto:20221109T120000
DTEND;TZID=America/Toronto:20221109T130000
DTSTAMP:20260420T153757
CREATED:20221101T195913Z
LAST-MODIFIED:20221111T180522Z
UID:20624-1667995200-1667998800@chiropractic.on.ca
SUMMARY:Personal Finance Mastery Program Kickoff with Enriched Academy
DESCRIPTION:You invest a lot in your practice. So\, managing your financial wellness is essential to your peace of mind and the financial security for your business and family. Learning how to manage your money and build wealth is a time-consuming task – and sometimes you may fall behind on this\, as you focus on your practice. You may also be looking for a solution to help you get started on mastering your financial life. If so\, we have some great news!\nAfter a successful pilot in fall 2021\, we’ve partnered with Canada’s leading financial education specialist — Enriched Academy to bring their comprehensive platform of programs and tools to our entire membership. \nThey offer an unrivaled combination of self-guided online courses\, live streaming sessions\, and one-on-one coaching. Over 200\,000 Canadians have relied on Enriched Academy to build a roadmap for a secure financial future. \nWe’re very excited to kick off this valuable initiative. We’ve invited Enriched Academy to give a live webinar on Wednesday\, November 9\, at 12 noon to explain how you can take full advantage of the resources now available to you. Please block your calendar and make it a point to attend if you’re looking for a better way forward with your finances. \n\nSpeaker\nKevin Cochrane\, CEO\, Enriched Academy \n\nWatch the Webinar\nLog in here to view content...
URL:https://chiropractic.on.ca/event/personal-finance-kickoff-enriched-academy/
CATEGORIES:Webinar
END:VEVENT
BEGIN:VEVENT
DTSTART;TZID=America/Toronto:20221123T120000
DTEND;TZID=America/Toronto:20221123T130000
DTSTAMP:20260420T153757
CREATED:20221101T195558Z
LAST-MODIFIED:20230131T165824Z
UID:20638-1669204800-1669208400@chiropractic.on.ca
SUMMARY:OCA Advocacy and Government Relations Information
DESCRIPTION:This Advocacy Webinar is an opportunity to engage with us to learn more about what we are doing to support you and advocate on behalf of our members. We will share updates related to advocacy work on scope enhancement and other topics and opportunities for you to get involved. \n\nSpeakers\nCaroline Brereton\, CEO\, OCA\nDr. Amy Brown\, Chiropractic Consultant\, OCA\nJillian Fernandez\, Manager of Stakeholder Relations\, OCA\nCaroline Pinto\, Counsel Public Affairs\nDevan Sommerville\, Counsel Public Affairs \n\nWatch the Webinar\n\n\nAdditional Resources
URL:https://chiropractic.on.ca/event/oca-advocacy-government-relations-information/
CATEGORIES:Webinar
END:VEVENT
BEGIN:VEVENT
DTSTART;TZID=America/Toronto:20221130T120000
DTEND;TZID=America/Toronto:20221130T130000
DTSTAMP:20260420T153757
CREATED:20221125T192649Z
LAST-MODIFIED:20221209T204216Z
UID:20876-1669809600-1669813200@chiropractic.on.ca
SUMMARY:Expanding our Chronic Pain Comfort Zone
DESCRIPTION:Our understanding of chronic pain has significantly evolved in recent decades via a combination of high-quality\, multi-disciplinary research and real-world clinical experience. This unprecedented progress has enhanced our fundamental understanding of how chronic pain develops and proliferates and how clinicians can recognize and effectively manage it for their patients. \nThis informative session will summarize years of pain research and help you integrate important pain neuroscience concepts into your patient care. \n\nSpeaker\nDr. Shawn Thistle\, CEO and Founder\, RRS Education \n\nOriginal broadcast date\nJune 17\, 2020 \n\nPresentation Materials\nLog in here to view content... \n\nAdditional Links\nLog in here to view content... \n\nWatch the Webinar\nLog in here to view content...
URL:https://chiropractic.on.ca/event/expanding-chronic-pain-comfort-zone-1/
CATEGORIES:Webinar
END:VEVENT
END:VCALENDAR