BEGIN:VCALENDAR
VERSION:2.0
PRODID:-//OCA - ECPv6.15.18//NONSGML v1.0//EN
CALSCALE:GREGORIAN
METHOD:PUBLISH
X-ORIGINAL-URL:https://chiropractic.on.ca
X-WR-CALDESC:Events for OCA
REFRESH-INTERVAL;VALUE=DURATION:PT1H
X-Robots-Tag:noindex
X-PUBLISHED-TTL:PT1H
BEGIN:VTIMEZONE
TZID:America/Toronto
BEGIN:DAYLIGHT
TZOFFSETFROM:-0500
TZOFFSETTO:-0400
TZNAME:EDT
DTSTART:20220313T070000
END:DAYLIGHT
BEGIN:STANDARD
TZOFFSETFROM:-0400
TZOFFSETTO:-0500
TZNAME:EST
DTSTART:20221106T060000
END:STANDARD
BEGIN:DAYLIGHT
TZOFFSETFROM:-0500
TZOFFSETTO:-0400
TZNAME:EDT
DTSTART:20230312T070000
END:DAYLIGHT
BEGIN:STANDARD
TZOFFSETFROM:-0400
TZOFFSETTO:-0500
TZNAME:EST
DTSTART:20231105T060000
END:STANDARD
BEGIN:DAYLIGHT
TZOFFSETFROM:-0500
TZOFFSETTO:-0400
TZNAME:EDT
DTSTART:20240310T070000
END:DAYLIGHT
BEGIN:STANDARD
TZOFFSETFROM:-0400
TZOFFSETTO:-0500
TZNAME:EST
DTSTART:20241103T060000
END:STANDARD
END:VTIMEZONE
BEGIN:VEVENT
DTSTART;TZID=America/Toronto:20230209T120000
DTEND;TZID=America/Toronto:20230209T130000
DTSTAMP:20260421T175743
CREATED:20230208T024330Z
LAST-MODIFIED:20230209T201749Z
UID:21300-1675944000-1675947600@chiropractic.on.ca
SUMMARY:CCA Master Class: The Role of Chiropractic in Opioid Management
DESCRIPTION:A special event webinar on the role of chiropractic in opioid management.\nThis CCA Master Class is presented by Kristy Naulis\, M.N.\, N.P. and Dr. Amy Brown\, B.Sc.\, D.C. and will be held via Zoom Webinar.\nClick/tap the link below to register. \nRegister for Master Class
URL:https://chiropractic.on.ca/event/role-of-chiropractic-in-opioid-management/
CATEGORIES:Special Events,Training
END:VEVENT
END:VCALENDAR