BEGIN:VCALENDAR
VERSION:2.0
PRODID:-//OCA - ECPv6.15.18//NONSGML v1.0//EN
CALSCALE:GREGORIAN
METHOD:PUBLISH
X-ORIGINAL-URL:https://chiropractic.on.ca
X-WR-CALDESC:Events for OCA
REFRESH-INTERVAL;VALUE=DURATION:PT1H
X-Robots-Tag:noindex
X-PUBLISHED-TTL:PT1H
BEGIN:VTIMEZONE
TZID:UTC
BEGIN:STANDARD
TZOFFSETFROM:+0000
TZOFFSETTO:+0000
TZNAME:UTC
DTSTART:20150101T000000
END:STANDARD
END:VTIMEZONE
BEGIN:VEVENT
DTSTART;TZID=UTC:20160420T120000
DTEND;TZID=UTC:20160420T130000
DTSTAMP:20260421T182037
CREATED:20160509T185353Z
LAST-MODIFIED:20200402T171331Z
UID:1329-1461153600-1461157200@chiropractic.on.ca
SUMMARY:Relevance of the Thoracic Spine in Neck Pain
DESCRIPTION:There is mounting evidence suggesting that assessing and treating thoracic spine function is paramount in the comprehensive management of mechanical neck pain – we will review this body of literature and put it in the context of daily patient management. \n\nSpeaker \nDr. Shawn Thistle\, RRS Education \n\nWatch Webinar\nPlease login to view content.
URL:https://chiropractic.on.ca/event/relevance-thoracic-spine-neck-pain-2/
CATEGORIES:Patient Care
END:VEVENT
END:VCALENDAR