BEGIN:VCALENDAR
VERSION:2.0
PRODID:-//OCA - ECPv6.15.18//NONSGML v1.0//EN
CALSCALE:GREGORIAN
METHOD:PUBLISH
X-WR-CALNAME:OCA
X-ORIGINAL-URL:https://chiropractic.on.ca
X-WR-CALDESC:Events for OCA
REFRESH-INTERVAL;VALUE=DURATION:PT1H
X-Robots-Tag:noindex
X-PUBLISHED-TTL:PT1H
BEGIN:VTIMEZONE
TZID:UTC
BEGIN:STANDARD
TZOFFSETFROM:+0000
TZOFFSETTO:+0000
TZNAME:UTC
DTSTART:20150101T000000
END:STANDARD
END:VTIMEZONE
BEGIN:VEVENT
DTSTART;TZID=UTC:20160413T120000
DTEND;TZID=UTC:20160413T130000
DTSTAMP:20260421T181942
CREATED:20160509T183206Z
LAST-MODIFIED:20200302T173203Z
UID:1325-1460548800-1460552400@chiropractic.on.ca
SUMMARY:Understanding Cloud Technology
DESCRIPTION:What does cloud technology mean for your clinic? \nThis webinar will give an overview of cloud technology\, privacy and security\, the benefits of cloud storage to your clinic\, and dispel some common misconceptions. \nSpeaker: Ron G. Parker\, Group Director\, Emerging Technology \n\nWatch Webinar\nPlease login to view content.
URL:https://chiropractic.on.ca/event/understanding-cloud-technology/
CATEGORIES:Business Management
END:VEVENT
END:VCALENDAR