BEGIN:VCALENDAR
VERSION:2.0
PRODID:-//OCA - ECPv6.15.18//NONSGML v1.0//EN
CALSCALE:GREGORIAN
METHOD:PUBLISH
X-WR-CALNAME:OCA
X-ORIGINAL-URL:https://chiropractic.on.ca
X-WR-CALDESC:Events for OCA
REFRESH-INTERVAL;VALUE=DURATION:PT1H
X-Robots-Tag:noindex
X-PUBLISHED-TTL:PT1H
BEGIN:VTIMEZONE
TZID:UTC
BEGIN:STANDARD
TZOFFSETFROM:+0000
TZOFFSETTO:+0000
TZNAME:UTC
DTSTART:20150101T000000
END:STANDARD
END:VTIMEZONE
BEGIN:VEVENT
DTSTART;TZID=UTC:20160323T120000
DTEND;TZID=UTC:20160323T130000
DTSTAMP:20260421T200617
CREATED:20160509T175325Z
LAST-MODIFIED:20220301T145426Z
UID:1318-1458734400-1458738000@chiropractic.on.ca
SUMMARY:Managing Your Online Presence
DESCRIPTION:Learn to manage your online presence through content marketing\, website design and social media. \n\nSpeakers \nFalk Jaehnchen\, Spark Marketing \n\nWatch Webinar\nPlease login to view content.
URL:https://chiropractic.on.ca/event/managing-online-presence/
CATEGORIES:Marketing and Promotion
END:VEVENT
END:VCALENDAR