BEGIN:VCALENDAR
VERSION:2.0
PRODID:-//OCA - ECPv6.15.18//NONSGML v1.0//EN
CALSCALE:GREGORIAN
METHOD:PUBLISH
X-WR-CALNAME:OCA
X-ORIGINAL-URL:https://chiropractic.on.ca
X-WR-CALDESC:Events for OCA
REFRESH-INTERVAL;VALUE=DURATION:PT1H
X-Robots-Tag:noindex
X-PUBLISHED-TTL:PT1H
BEGIN:VTIMEZONE
TZID:UTC
BEGIN:STANDARD
TZOFFSETFROM:+0000
TZOFFSETTO:+0000
TZNAME:UTC
DTSTART:20150101T000000
END:STANDARD
END:VTIMEZONE
BEGIN:VEVENT
DTSTART;TZID=UTC:20160127T120000
DTEND;TZID=UTC:20160127T130000
DTSTAMP:20260422T005457
CREATED:20160509T163541Z
LAST-MODIFIED:20200302T173321Z
UID:1304-1453896000-1453899600@chiropractic.on.ca
SUMMARY:Tradeshow 102: Attracting Visitors
DESCRIPTION:Learn how to attract and connect with visitors to your booth. \n— OCA Outreach Coordinator \n\nWatch Webinar\nPlease login to view content.
URL:https://chiropractic.on.ca/event/tradeshow-102-attracting-visitors/
CATEGORIES:Marketing and Promotion
END:VEVENT
END:VCALENDAR