BEGIN:VCALENDAR
VERSION:2.0
PRODID:-//OCA - ECPv6.15.18//NONSGML v1.0//EN
CALSCALE:GREGORIAN
METHOD:PUBLISH
X-ORIGINAL-URL:https://chiropractic.on.ca
X-WR-CALDESC:Events for OCA
REFRESH-INTERVAL;VALUE=DURATION:PT1H
X-Robots-Tag:noindex
X-PUBLISHED-TTL:PT1H
BEGIN:VTIMEZONE
TZID:UTC
BEGIN:STANDARD
TZOFFSETFROM:+0000
TZOFFSETTO:+0000
TZNAME:UTC
DTSTART:20150101T000000
END:STANDARD
END:VTIMEZONE
BEGIN:VEVENT
DTSTART;TZID=UTC:20160113T120000
DTEND;TZID=UTC:20160113T130000
DTSTAMP:20260422T005539
CREATED:20160509T163149Z
LAST-MODIFIED:20200330T225018Z
UID:1301-1452686400-1452690000@chiropractic.on.ca
SUMMARY:Falls and Floods:  Protecting Your Practice
DESCRIPTION:What is your liability if a patient slips and falls in your office? Who pays if a flood in your clinic causes water damage next door? Learn about premises liability and how to protect your business with office insurance. \n\nSpeaker \nSteven Campanella\, Brokers Trust Insurance Group Inc. \n\nWatch Webinar\nPlease login to view content.
URL:https://chiropractic.on.ca/event/falls-floods-protecting-office/
CATEGORIES:Business Management
END:VEVENT
END:VCALENDAR