BEGIN:VCALENDAR
VERSION:2.0
PRODID:-//OCA - ECPv6.15.18//NONSGML v1.0//EN
CALSCALE:GREGORIAN
METHOD:PUBLISH
X-WR-CALNAME:OCA
X-ORIGINAL-URL:https://chiropractic.on.ca
X-WR-CALDESC:Events for OCA
REFRESH-INTERVAL;VALUE=DURATION:PT1H
X-Robots-Tag:noindex
X-PUBLISHED-TTL:PT1H
BEGIN:VTIMEZONE
TZID:UTC
BEGIN:STANDARD
TZOFFSETFROM:+0000
TZOFFSETTO:+0000
TZNAME:UTC
DTSTART:20140101T000000
END:STANDARD
END:VTIMEZONE
BEGIN:VEVENT
DTSTART;TZID=UTC:20151014T120000
DTEND;TZID=UTC:20151014T130000
DTSTAMP:20260422T054432
CREATED:20160509T152948Z
LAST-MODIFIED:20200508T172824Z
UID:1297-1444824000-1444827600@chiropractic.on.ca
SUMMARY:Networking: Getting Ahead By Putting Others First
DESCRIPTION:There’s a lot of competition out there. Learn to cut through the noise by fostering authentic relationships with new potential patients and colleagues. This positive approach to networking from Dale Carnegie Training will enable you to build confidence and credibility\, communicate your value and establish profitable connections. \n— Dale Carnegie –Ivan Wanis Ruiz \n\nMP3 Audio
URL:https://chiropractic.on.ca/event/networking-getting-ahead-putting-others-first-5/
CATEGORIES:Marketing and Promotion
END:VEVENT
END:VCALENDAR