BEGIN:VCALENDAR
VERSION:2.0
PRODID:-//OCA - ECPv6.15.18//NONSGML v1.0//EN
CALSCALE:GREGORIAN
METHOD:PUBLISH
X-WR-CALNAME:OCA
X-ORIGINAL-URL:https://chiropractic.on.ca
X-WR-CALDESC:Events for OCA
REFRESH-INTERVAL;VALUE=DURATION:PT1H
X-Robots-Tag:noindex
X-PUBLISHED-TTL:PT1H
BEGIN:VTIMEZONE
TZID:UTC
BEGIN:STANDARD
TZOFFSETFROM:+0000
TZOFFSETTO:+0000
TZNAME:UTC
DTSTART:20140101T000000
END:STANDARD
END:VTIMEZONE
BEGIN:VEVENT
DTSTART;TZID=UTC:20150624T120000
DTEND;TZID=UTC:20150624T130000
DTSTAMP:20260422T144329
CREATED:20160505T144807Z
LAST-MODIFIED:20200527T061034Z
UID:1137-1435147200-1435150800@chiropractic.on.ca
SUMMARY:Getting in Front of Key Decision Makers
DESCRIPTION:How to get the meeting\, present your case and achieve your goal. \n\nWatch Webinar
URL:https://chiropractic.on.ca/event/getting-front-key-decision-makers/
CATEGORIES:Marketing and Promotion
END:VEVENT
END:VCALENDAR