BEGIN:VCALENDAR
VERSION:2.0
PRODID:-//OCA - ECPv6.15.18//NONSGML v1.0//EN
CALSCALE:GREGORIAN
METHOD:PUBLISH
X-WR-CALNAME:OCA
X-ORIGINAL-URL:https://chiropractic.on.ca
X-WR-CALDESC:Events for OCA
REFRESH-INTERVAL;VALUE=DURATION:PT1H
X-Robots-Tag:noindex
X-PUBLISHED-TTL:PT1H
BEGIN:VTIMEZONE
TZID:UTC
BEGIN:STANDARD
TZOFFSETFROM:+0000
TZOFFSETTO:+0000
TZNAME:UTC
DTSTART:20140101T000000
END:STANDARD
END:VTIMEZONE
BEGIN:VEVENT
DTSTART;TZID=UTC:20150610T120000
DTEND;TZID=UTC:20150610T130000
DTSTAMP:20260422T161553
CREATED:20160505T144319Z
LAST-MODIFIED:20200302T173451Z
UID:1136-1433937600-1433941200@chiropractic.on.ca
SUMMARY:The Changing Face of Arthritis
DESCRIPTION:A webinar offered by the Arthritis Society on the latest research related to osteoarthritis and inflammatory arthritis. \n\nWatch the Webinar\nPlease login to view content.
URL:https://chiropractic.on.ca/event/changing-face-arthritis-2/
CATEGORIES:Patient Care
END:VEVENT
END:VCALENDAR