BEGIN:VCALENDAR
VERSION:2.0
PRODID:-//OCA - ECPv6.15.18//NONSGML v1.0//EN
CALSCALE:GREGORIAN
METHOD:PUBLISH
X-WR-CALNAME:OCA
X-ORIGINAL-URL:https://chiropractic.on.ca
X-WR-CALDESC:Events for OCA
REFRESH-INTERVAL;VALUE=DURATION:PT1H
X-Robots-Tag:noindex
X-PUBLISHED-TTL:PT1H
BEGIN:VTIMEZONE
TZID:UTC
BEGIN:STANDARD
TZOFFSETFROM:+0000
TZOFFSETTO:+0000
TZNAME:UTC
DTSTART:20140101T000000
END:STANDARD
END:VTIMEZONE
BEGIN:VEVENT
DTSTART;TZID=UTC:20150429T120000
DTEND;TZID=UTC:20150429T130000
DTSTAMP:20260422T161556
CREATED:20160505T164032Z
LAST-MODIFIED:20200302T170234Z
UID:1219-1430308800-1430312400@chiropractic.on.ca
SUMMARY:FIFA 11+ Reducing injury rates in soccer in Ontario
DESCRIPTION:Soccer is one of the leading sports that results in MSK injuries for youth in Canada.This session provides information on the FIFA 11 plus injury prevention program\, which can reduce knee and ankle injuries by up to 43%. We cover the latest research on injuries\, the prevention exercises and the program’s effectiveness. The session also addresses how chiropractors can work with clubs and injured athletes. \nSpeaker: Rhona McGlasson PT MBA\, Executive Director\, Bone and Joint Canada. \n\nWatch the Webinar\nPlease login to view content.
URL:https://chiropractic.on.ca/event/fifa-11-reducing-injury-rates-soccer-ontario/
CATEGORIES:Patient Care
END:VEVENT
END:VCALENDAR