BEGIN:VCALENDAR
VERSION:2.0
PRODID:-//OCA - ECPv6.15.18//NONSGML v1.0//EN
CALSCALE:GREGORIAN
METHOD:PUBLISH
X-WR-CALNAME:OCA
X-ORIGINAL-URL:https://chiropractic.on.ca
X-WR-CALDESC:Events for OCA
REFRESH-INTERVAL;VALUE=DURATION:PT1H
X-Robots-Tag:noindex
X-PUBLISHED-TTL:PT1H
BEGIN:VTIMEZONE
TZID:UTC
BEGIN:STANDARD
TZOFFSETFROM:+0000
TZOFFSETTO:+0000
TZNAME:UTC
DTSTART:20130101T000000
END:STANDARD
END:VTIMEZONE
BEGIN:VEVENT
DTSTART;TZID=UTC:20141025T090000
DTEND;TZID=UTC:20141025T180000
DTSTAMP:20260423T073722
CREATED:20160504T215218Z
LAST-MODIFIED:20160504T215218Z
UID:1053-1414227600-1414260000@chiropractic.on.ca
SUMMARY:OCA Conference 2014
DESCRIPTION:The OCA’s Annual Conference will be held on Saturday\, October 25\, 2014 at the Hilton Toronto. The health care landscape is changing rapidly. Teams of care lead the way to excellence in patient care. Chiropractors are positioned to be leaders in the development of a health care system that is highly patient centred and relentlessly focused on quality and positive outcomes. At the 2014 OCA Annual Conference we will focus on strategies to leverage these exciting trends in your own practice by engaging patients more deeply in their own care. \nVisit the OCA Conference section for more information »
URL:https://chiropractic.on.ca/event/oca-conference-2014/
CATEGORIES:Conferences
END:VEVENT
BEGIN:VEVENT
DTSTART;TZID=UTC:20141025T180000
DTEND;TZID=UTC:20141025T190000
DTSTAMP:20260423T073722
CREATED:20160505T183034Z
LAST-MODIFIED:20160505T183034Z
UID:1105-1414260000-1414263600@chiropractic.on.ca
SUMMARY:Community Engagement & Leadership Program (CELP) Roadshow – GTA Edition
DESCRIPTION:Presenters: Dr. Amy Brown and Dr. Jennifer Nash\, Community Outreach Co-ordinatorsTime: Dinner at 6:00 p.m. followed by a presentation at 6:15 p.m.Location: Hilton Downtown Toronto\, 145 Richmond St W\, Toronto\, ON M5H 2L2 \nPlease RSVP with the subject “GTA Roadshow RSVP” at: oca@chiropractic.on.ca \nThis session will describe the strategies behind the expanded Community Engagement & Leadership Program and how it will equip OCA volunteers to advocate for the profession among the public and stakeholders.
URL:https://chiropractic.on.ca/event/community-engagement-leadership-program-celp-roadshow-gta-edition/
CATEGORIES:Outreach
END:VEVENT
END:VCALENDAR