BEGIN:VCALENDAR
VERSION:2.0
PRODID:-//OCA - ECPv6.15.18//NONSGML v1.0//EN
CALSCALE:GREGORIAN
METHOD:PUBLISH
X-WR-CALNAME:OCA
X-ORIGINAL-URL:https://chiropractic.on.ca
X-WR-CALDESC:Events for OCA
REFRESH-INTERVAL;VALUE=DURATION:PT1H
X-Robots-Tag:noindex
X-PUBLISHED-TTL:PT1H
BEGIN:VTIMEZONE
TZID:UTC
BEGIN:STANDARD
TZOFFSETFROM:+0000
TZOFFSETTO:+0000
TZNAME:UTC
DTSTART:20130101T000000
END:STANDARD
END:VTIMEZONE
BEGIN:VEVENT
DTSTART;TZID=UTC:20140710T120000
DTEND;TZID=UTC:20140710T130000
DTSTAMP:20260423T164709
CREATED:20160504T165605Z
LAST-MODIFIED:20200302T170453Z
UID:1055-1404993600-1404997200@chiropractic.on.ca
SUMMARY:Complying with Canada’s Anti-Spam Legislation
DESCRIPTION:Canada’s Anti-Spam Legislation (CASL) sets out new requirements for sending Commercial Electronic Messages. This part of CASL came into force on July 1\, 2014. \nWhat does this mean for your clinic’s newsletter and marketing initiatives? Do you have consent from your current subscribers or will you need to ask for consent again? How does implied consent work? Mills & Mills LLP\, an OCA Advantages partner\, will guide you through this legislation and help you to assess whether your clinic is compliant with CASL. \n\nWatch the Webinar\nPlease login to view content.
URL:https://chiropractic.on.ca/event/complying-canadas-anti-spam-legislation/
CATEGORIES:Legal and Compliance
END:VEVENT
END:VCALENDAR